BEGIN:VCALENDAR
VERSION:2.0
PRODID:-//Squarespace Inc/Squarespace 6//v6//EN
BEGIN:VEVENT
UID:5be52fe9352f530e5c7be91b@squarespace.com
DTSTAMP:20181109T085038Z
DTSTART:20180117T073000Z
DTEND:20180117T093000Z
SUMMARY:Revegetation Workshop (seminar and site visit)
END:VEVENT
END:VCALENDAR
