BEGIN:VCALENDAR
VERSION:2.0
PRODID:-//Squarespace Inc/Squarespace 6//v6//EN
BEGIN:VEVENT
UID:5bb2dd0e419202618510840c@squarespace.com
DTSTAMP:20181109T074427Z
DTSTART:20181025T030000Z
DTEND:20181025T090000Z
SUMMARY:Future Farming - Lower South West Hub Spring Field Day
END:VEVENT
END:VCALENDAR
