BEGIN:VCALENDAR
VERSION:2.0
PRODID:-//Squarespace Inc/Squarespace 6//v6//EN
BEGIN:VEVENT
UID:5be8f988562fa7018671dde8@squarespace.com
DTSTAMP:20181115T050558Z
DTSTART:20181122T070000Z
DTEND:20181122T090000Z
SUMMARY:Weeds Management - a case study &amp\; workshop
END:VEVENT
END:VCALENDAR
