BEGIN:VCALENDAR
VERSION:2.0
PRODID:-//Squarespace Inc/Squarespace 6//v6//EN
BEGIN:VEVENT
UID:5be14f85898583afee32426e@squarespace.com
DTSTAMP:20181115T050446Z
DTSTART:20181129T080000Z
DTEND:20181129T100000Z
SUMMARY:Understanding Your Soil Test - a beginners guide.
END:VEVENT
END:VCALENDAR
