BEGIN:VCALENDAR
VERSION:2.0
PRODID:-//Squarespace Inc/Squarespace 6//v6//EN
BEGIN:VEVENT
UID:5becf8191ae6cfd3032a0f60@squarespace.com
DTSTAMP:20181120T011101Z
DTSTART:20181204T083000Z
DTEND:20181204T103000Z
SUMMARY:Regional Estuaries Initiative Community Update
END:VEVENT
END:VCALENDAR
