BEGIN:VCALENDAR
VERSION:2.0
PRODID:-//Squarespace Inc/Squarespace 6//v6//EN
BEGIN:VEVENT
UID:5be5323488251baaf9d3b8b4@squarespace.com
DTSTAMP:20181109T084411Z
DTSTART:20180308T013000Z
DTEND:20180308T053000Z
SUMMARY:Weaving Baskets Using Weeds!
END:VEVENT
END:VCALENDAR
