BEGIN:VCALENDAR
VERSION:2.0
PRODID:-//Squarespace Inc/Squarespace 6//v6//EN
BEGIN:VEVENT
UID:5be52c850e2e727783b07ef8@squarespace.com
DTSTAMP:20181109T083952Z
DTSTART:20180523T073000Z
DTEND:20180523T093000Z
SUMMARY:Bank Stabilisation ''On Site'' Workshop
END:VEVENT
END:VCALENDAR
