BEGIN:VCALENDAR
VERSION:2.0
PRODID:-//Squarespace Inc/Squarespace 6//v6//EN
BEGIN:VEVENT
UID:5be53340562fa72093591651@squarespace.com
DTSTAMP:20181109T083046Z
DTSTART:20180616T020000Z
DTEND:20180616T040000Z
SUMMARY:Planting Day Out
END:VEVENT
END:VCALENDAR
