BEGIN:VCALENDAR
VERSION:2.0
PRODID:-//Squarespace Inc/Squarespace 6//v6//EN
BEGIN:VEVENT
UID:5be5286140ec9a7bcd9c8fad@squarespace.com
DTSTAMP:20181109T083257Z
DTSTART:20180621T080000Z
DTEND:20180621T100000Z
SUMMARY:Energy &amp\; Effluent Seminar
END:VEVENT
END:VCALENDAR
