BEGIN:VCALENDAR
VERSION:2.0
PRODID:-//Squarespace Inc/Squarespace 6//v6//EN
BEGIN:VEVENT
UID:5b67f3f7f950b7f27709c606@squarespace.com
DTSTAMP:20181109T080018Z
DTSTART:20180823T013000Z
DTEND:20180823T060000Z
SUMMARY:Workshop &amp\; Farm Visit: Feeding the Soil - a Recipe for Regener
 ative Farming.
END:VEVENT
END:VCALENDAR
