BEGIN:VCALENDAR
VERSION:2.0
PRODID:-//Squarespace Inc/Squarespace 6//v6//EN
BEGIN:VEVENT
UID:5b516ab1758d46a40f594f56@squarespace.com
DTSTAMP:20180814T071253Z
DTSTART:20180830T070000Z
DTEND:20180830T090000Z
SUMMARY:Demonstration Workshop: Planting Techniques for Riparian Revegetati
 on Success
END:VEVENT
END:VCALENDAR
