BEGIN:VCALENDAR
VERSION:2.0
PRODID:-//Squarespace Inc/Squarespace 6//v6//EN
BEGIN:VEVENT
UID:5b97707e4d7a9ca99dcac07b@squarespace.com
DTSTAMP:20181109T080105Z
DTSTART:20180927T080000Z
DTEND:20180927T100000Z
SUMMARY:Improving Soil Health - An Agronomy View
END:VEVENT
END:VCALENDAR
