BEGIN:VCALENDAR
VERSION:2.0
PRODID:-//Squarespace Inc/Squarespace 6//v6//EN
BEGIN:VEVENT
UID:5c6ce0b4eb393157f02d613c@squarespace.com
DTSTAMP:20190220T062940Z
DTSTART:20190314T080000Z
DTEND:20190314T100000Z
SUMMARY:The Benefits &amp\; Importance of Biodiversity in Pastures
END:VEVENT
END:VCALENDAR
