BEGIN:VCALENDAR
VERSION:2.0
PRODID:-//Squarespace Inc/Squarespace 6//v6//EN
BEGIN:VEVENT
UID:5c4fef4a7924e85a6ddae6af@squarespace.com
DTSTAMP:20190129T074903Z
DTSTART:20190228T014500Z
DTEND:20190228T060000Z
SUMMARY:Soil Testing Farmer Workshop
END:VEVENT
END:VCALENDAR
