BEGIN:VCALENDAR
VERSION:2.0
PRODID:-//Squarespace Inc/Squarespace 6//v6//EN
BEGIN:VEVENT
UID:5c46d313cd83663a0969b8e5@squarespace.com
DTSTAMP:20190124T064040Z
DTSTART:20190207T080000Z
DTEND:20190207T100000Z
SUMMARY:Benefits of Rhizobia and N fixation of Organic Nitrogen  
END:VEVENT
END:VCALENDAR
