BEGIN:VCALENDAR
VERSION:2.0
PRODID:-//Squarespace Inc/Squarespace 6//v6//EN
BEGIN:VEVENT
UID:5c6a223eeef1a1de5b11e938@squarespace.com
DTSTAMP:20190218T041116Z
DTSTART:20190303T010000Z
DTEND:20190303T120000Z
SUMMARY:Augusta River Festival
END:VEVENT
END:VCALENDAR
